BEGIN:VCALENDAR
VERSION:2.0
PRODID:-//Plone.org//NONSGML plone.app.event//EN
X-WR-TIMEZONE:Europe/Zurich
BEGIN:VEVENT
SUMMARY:Mini-Volleyballturnier (Vorrunde)
DTSTART;TZID=Europe/Zurich;VALUE=DATE-TIME:20191120T130000
DTEND;TZID=Europe/Zurich;VALUE=DATE-TIME:20191120T170000
DTSTAMP;VALUE=DATE-TIME:20260421T110922Z
UID:47fc354ba64444cf96166a0c0ca52dee@5.35.252.84:8090
CONTACT:Hansueli Schaub
CREATED;VALUE=DATE-TIME:20191021T094401Z
LAST-MODIFIED;VALUE=DATE-TIME:20200706T064401Z
LOCATION:Aesch
URL:https://www.sek-pratteln.ch/events/oeffentlich/mini-volleyballturnier-
 vorrunde
END:VEVENT
BEGIN:VTIMEZONE
TZID:Europe/Zurich
X-LIC-LOCATION:Europe/Zurich
BEGIN:STANDARD
DTSTART;VALUE=DATE-TIME:20191027T020000
TZNAME:CET
TZOFFSETFROM:+0200
TZOFFSETTO:+0100
END:STANDARD
END:VTIMEZONE
END:VCALENDAR
