BEGIN:VCALENDAR
VERSION:2.0
PRODID:-//Plone.org//NONSGML plone.app.event//EN
X-WR-TIMEZONE:Europe/Zurich
BEGIN:VEVENT
SUMMARY:Mini-Volleyballturnier (Finalrunde)
DTSTART;TZID=Europe/Zurich;VALUE=DATE-TIME:20191206T130000
DTEND;TZID=Europe/Zurich;VALUE=DATE-TIME:20191206T170000
DTSTAMP;VALUE=DATE-TIME:20260421T110702Z
UID:f756aaa2c2de46fda9590f8cea04725b@5.35.252.84:8090
CONTACT:Hansueli Schaub
CREATED;VALUE=DATE-TIME:20191021T095405Z
LAST-MODIFIED;VALUE=DATE-TIME:20200706T064401Z
LOCATION:Aesch
URL:https://www.sek-pratteln.ch/events/oeffentlich/mini-volleyballturnier-
 finalrunde
END:VEVENT
BEGIN:VTIMEZONE
TZID:Europe/Zurich
X-LIC-LOCATION:Europe/Zurich
BEGIN:STANDARD
DTSTART;VALUE=DATE-TIME:20191027T020000
TZNAME:CET
TZOFFSETFROM:+0200
TZOFFSETTO:+0100
END:STANDARD
END:VTIMEZONE
END:VCALENDAR
