BEGIN:VCALENDAR
VERSION:2.0
PRODID:-//Plone.org//NONSGML plone.app.event//EN
X-WR-TIMEZONE:Europe/Zurich
BEGIN:VEVENT
SUMMARY:letzter Schultag 3. Sek
DTSTART;VALUE=DATE:20190624
DTEND;VALUE=DATE:20190625
DTSTAMP;VALUE=DATE-TIME:20260421T110816Z
UID:040000008200E00074C5B7101A82E008000000003091BB4DDA07D40100000000000000
 0010000000726702DA19B84044AA29D9073BD00E9B
CREATED;VALUE=DATE-TIME:20180629T060538Z
DESCRIPTION:\n\n
LAST-MODIFIED;VALUE=DATE-TIME:20200706T064353Z
URL:https://www.sek-pratteln.ch/events/oeffentlich/letzter-schultag-3-sek
END:VEVENT
END:VCALENDAR
