BEGIN:VCALENDAR
VERSION:2.0
PRODID:-//Plone.org//NONSGML plone.app.event//EN
X-WR-TIMEZONE:Europe/Zurich
BEGIN:VEVENT
SUMMARY:Schweizer Erzählnacht "So ein Glück"
DTSTART;TZID=Europe/Zurich;VALUE=DATE-TIME:20201113T190000
DTEND;TZID=Europe/Zurich;VALUE=DATE-TIME:20201113T223000
DTSTAMP;VALUE=DATE-TIME:20260421T111158Z
UID:a6816b1e7aa846f389d2abcfebb01d94@5.35.252.84:8090
CONTACT:Karin Busch
CREATED;VALUE=DATE-TIME:20200818T103501Z
LAST-MODIFIED;VALUE=DATE-TIME:20200918T074904Z
LOCATION:Sekundarschule Pratteln
URL:https://www.sek-pratteln.ch/events/oeffentlich/lesenacht-klassen-1ep-2
 p-und-3p
END:VEVENT
BEGIN:VTIMEZONE
TZID:Europe/Zurich
X-LIC-LOCATION:Europe/Zurich
BEGIN:STANDARD
DTSTART;VALUE=DATE-TIME:20201025T020000
TZNAME:CET
TZOFFSETFROM:+0200
TZOFFSETTO:+0100
END:STANDARD
END:VTIMEZONE
END:VCALENDAR
