BEGIN:VCALENDAR
VERSION:2.0
PRODID:-//Plone.org//NONSGML plone.app.event//EN
X-WR-TIMEZONE:Europe/Zurich
BEGIN:VEVENT
SUMMARY:Leseförderungsprojekt Silence - on lit!
DTSTART;VALUE=DATE:20251103
DTEND;VALUE=DATE:20251115
DTSTAMP;VALUE=DATE-TIME:20260419T182840Z
UID:040000008200E00074C5B7101A82E00800000000F068967D1FD2DB0100000000000000
 00100000006101D361C7FDF342BFB83B732DF5239F
CREATED;VALUE=DATE-TIME:20250611T084906Z
LAST-MODIFIED;VALUE=DATE-TIME:20250611T085728Z
URL:https://www.sek-pratteln.ch/events/oeffentlich/lesefoerderungsprojekt-
 silence-on-lit
END:VEVENT
END:VCALENDAR
