BEGIN:VCALENDAR
VERSION:2.0
PRODID:-//Plone.org//NONSGML plone.app.event//EN
X-WR-TIMEZONE:Europe/Zurich
BEGIN:VEVENT
SUMMARY:Abgesagt: Konzert für die Primarstufen und am Abend öffentlich
DTSTART;VALUE=DATE:20210528
DTEND;VALUE=DATE:20210529
DTSTAMP;VALUE=DATE-TIME:20260421T111307Z
UID:f2c6977adb634fc5ac6e6fac3daace95@5.35.252.84:8090
CONTACT:Simon Matiz
CREATED;VALUE=DATE-TIME:20200825T091448Z
LAST-MODIFIED;VALUE=DATE-TIME:20210128T084109Z
URL:https://www.sek-pratteln.ch/events/oeffentlich/konzert-fuer-die-primar
 stufen-und-am-abend-oeffentlich
END:VEVENT
END:VCALENDAR
