BEGIN:VCALENDAR
VERSION:2.0
PRODID:-//Plone.org//NONSGML plone.app.event//EN
X-WR-TIMEZONE:Europe/Zurich
BEGIN:VEVENT
SUMMARY:Abgesagt: Konzert am Abend
DTSTART;VALUE=DATE:20210529
DTEND;VALUE=DATE:20210530
DTSTAMP;VALUE=DATE-TIME:20260421T144535Z
UID:8ad25cc7e11c46b1a5ba8b07f5a83fbb@5.35.252.84:8090
CONTACT:Simon Matiz
CREATED;VALUE=DATE-TIME:20200825T091550Z
LAST-MODIFIED;VALUE=DATE-TIME:20210128T084134Z
URL:https://www.sek-pratteln.ch/events/oeffentlich/konzert-am-abend
END:VEVENT
END:VCALENDAR
