BEGIN:VCALENDAR
VERSION:2.0
PRODID:-//Plone.org//NONSGML plone.app.event//EN
X-WR-TIMEZONE:Europe/Zurich
BEGIN:VEVENT
SUMMARY:KOG UT+ (Fokus nächstes SJ 25/26) ab ca. 15:00h
DTSTART;TZID=Europe/Zurich;VALUE=DATE-TIME:20250624T150000
DTEND;TZID=Europe/Zurich;VALUE=DATE-TIME:20250624T170000
DTSTAMP;VALUE=DATE-TIME:20260421T105724Z
UID:040000008200E00074C5B7101A82E0080000000090C68E4E46C2DA0100000000000000
 0010000000B1EFE99B370BE8448001DD361C4287D3
CREATED;VALUE=DATE-TIME:20240627T145044Z
LAST-MODIFIED;VALUE=DATE-TIME:20240627T145631Z
URL:https://www.sek-pratteln.ch/events/oeffentlich/kog-ut-fokus-naechstes-
 sj-25-26-ab-ca-15-00h
END:VEVENT
BEGIN:VTIMEZONE
TZID:Europe/Zurich
X-LIC-LOCATION:Europe/Zurich
BEGIN:DAYLIGHT
DTSTART;VALUE=DATE-TIME:20250330T030000
TZNAME:CEST
TZOFFSETFROM:+0100
TZOFFSETTO:+0200
END:DAYLIGHT
END:VTIMEZONE
END:VCALENDAR
