BEGIN:VCALENDAR
VERSION:2.0
PRODID:-//Plone.org//NONSGML plone.app.event//EN
X-WR-TIMEZONE:Europe/Zurich
BEGIN:VEVENT
SUMMARY:Kein Präsenzunterricht
DTSTART;VALUE=DATE:20200316
DTEND;VALUE=DATE:20200404
DTSTAMP;VALUE=DATE-TIME:20260421T110924Z
UID:b729d698c1654d1cac7dd749a8a2174e@5.35.252.84:8090
CREATED;VALUE=DATE-TIME:20200317T090857Z
DESCRIPTION:Der Unterricht findet als Fernunterricht zu Hause statt.
LAST-MODIFIED;VALUE=DATE-TIME:20200706T064401Z
URL:https://www.sek-pratteln.ch/events/oeffentlich/kein-praesenzunterricht
END:VEVENT
END:VCALENDAR
