BEGIN:VCALENDAR
VERSION:2.0
PRODID:-//Plone.org//NONSGML plone.app.event//EN
X-WR-TIMEZONE:Europe/Zurich
BEGIN:VEVENT
SUMMARY:Jahresschlusskonzert - abgesagt
DTSTART;TZID=Europe/Zurich;VALUE=DATE-TIME:20211216T190000
DTEND;TZID=Europe/Zurich;VALUE=DATE-TIME:20211216T210000
DTSTAMP;VALUE=DATE-TIME:20260421T111308Z
UID:040000008200E00074C5B7101A82E00800000000802A04719E63D70100000000000000
 0010000000B403E0A0E036CA4EAF7FCB80F7649854
CREATED;VALUE=DATE-TIME:20210701T072617Z
DESCRIPTION:None
LAST-MODIFIED;VALUE=DATE-TIME:20211124T104008Z
URL:https://www.sek-pratteln.ch/events/oeffentlich/jahresschlusskonzert-wp
 f-musik-2-kl-19-00h-aula-q
END:VEVENT
BEGIN:VTIMEZONE
TZID:Europe/Zurich
X-LIC-LOCATION:Europe/Zurich
BEGIN:STANDARD
DTSTART;VALUE=DATE-TIME:20211031T020000
TZNAME:CET
TZOFFSETFROM:+0200
TZOFFSETTO:+0100
END:STANDARD
END:VTIMEZONE
END:VCALENDAR
