BEGIN:VCALENDAR
VERSION:2.0
PRODID:-//Plone.org//NONSGML plone.app.event//EN
X-WR-TIMEZONE:Europe/Zurich
BEGIN:VEVENT
SUMMARY:Jahresschlusskonzert (WPF Musik 2. Kl.) 19:00
DTSTART;TZID=Europe/Zurich;VALUE=DATE-TIME:20221222T190000
DTEND;TZID=Europe/Zurich;VALUE=DATE-TIME:20221222T210000
DTSTAMP;VALUE=DATE-TIME:20260421T111216Z
UID:040000008200E00074C5B7101A82E0080000000080BD3FD63083D80100000000000000
 0010000000A72A38A4FC5A6449A17D207C11BA75F8
CREATED;VALUE=DATE-TIME:20220627T163413Z
DESCRIPTION: \n
LAST-MODIFIED;VALUE=DATE-TIME:20220627T165941Z
LOCATION:Aula Q
URL:https://www.sek-pratteln.ch/events/oeffentlich/jahresschlusskonzert-wp
 f-musik-2-kl-19-00
END:VEVENT
BEGIN:VTIMEZONE
TZID:Europe/Zurich
X-LIC-LOCATION:Europe/Zurich
BEGIN:STANDARD
DTSTART;VALUE=DATE-TIME:20221030T020000
TZNAME:CET
TZOFFSETFROM:+0200
TZOFFSETTO:+0100
END:STANDARD
END:VTIMEZONE
END:VCALENDAR
