BEGIN:VCALENDAR
VERSION:2.0
PRODID:-//Plone.org//NONSGML plone.app.event//EN
X-WR-TIMEZONE:Europe/Zurich
BEGIN:VEVENT
SUMMARY:Abgesagt: Jahresschlusskonzert (WPF Musik 2. Kl.)
DTSTART;TZID=Europe/Zurich;VALUE=DATE-TIME:20201217T190000
DTEND;TZID=Europe/Zurich;VALUE=DATE-TIME:20201217T210000
DTSTAMP;VALUE=DATE-TIME:20260421T111200Z
UID:040000008200E00074C5B7101A82E00800000000A050B1A5184AD60100000000000000
 00100000004DC09E19A4603F4BA22E8E4FAB00EEF4
CREATED;VALUE=DATE-TIME:20200706T062847Z
DESCRIPTION:None
LAST-MODIFIED;VALUE=DATE-TIME:20201208T082221Z
LOCATION:Aula-B/Q
URL:https://www.sek-pratteln.ch/events/oeffentlich/jahresschlusskonzert-wp
 f-musik-2-kl-1
END:VEVENT
BEGIN:VTIMEZONE
TZID:Europe/Zurich
X-LIC-LOCATION:Europe/Zurich
BEGIN:STANDARD
DTSTART;VALUE=DATE-TIME:20201025T020000
TZNAME:CET
TZOFFSETFROM:+0200
TZOFFSETTO:+0100
END:STANDARD
END:VTIMEZONE
END:VCALENDAR
