BEGIN:VCALENDAR
VERSION:2.0
PRODID:-//Plone.org//NONSGML plone.app.event//EN
X-WR-TIMEZONE:Europe/Zurich
BEGIN:VEVENT
SUMMARY:Jahresschlussfeier 1.Kl
DTSTART;TZID=Europe/Zurich;VALUE=DATE-TIME:20191220T100000
DTEND;TZID=Europe/Zurich;VALUE=DATE-TIME:20191220T140000
DTSTAMP;VALUE=DATE-TIME:20260420T163709Z
UID:040000008200E00074C5B7101A82E00800000000F0CA5D94A431D50100000000000000
 0010000000998A33B84EB3D542B13D448FD8906F90
CREATED;VALUE=DATE-TIME:20190708T101845Z
DESCRIPTION:\n\n
LAST-MODIFIED;VALUE=DATE-TIME:20200706T064359Z
LOCATION:grosse Aula-B
URL:https://www.sek-pratteln.ch/events/oeffentlich/jahresschlussfeier-1.kl
END:VEVENT
BEGIN:VTIMEZONE
TZID:Europe/Zurich
X-LIC-LOCATION:Europe/Zurich
BEGIN:STANDARD
DTSTART;VALUE=DATE-TIME:20191027T020000
TZNAME:CET
TZOFFSETFROM:+0200
TZOFFSETTO:+0100
END:STANDARD
END:VTIMEZONE
END:VCALENDAR
