BEGIN:VCALENDAR
VERSION:2.0
PRODID:-//Plone.org//NONSGML plone.app.event//EN
X-WR-TIMEZONE:Europe/Zurich
BEGIN:VEVENT
SUMMARY:Jahresschlussfeier (1. Sek > 10-12 gemeinsames Singen\; 2. Sek >..
 ..\; 3. Sek > 13-15...)
DTSTART;TZID=Europe/Zurich;VALUE=DATE-TIME:20181221T100000
DTEND;TZID=Europe/Zurich;VALUE=DATE-TIME:20181221T150000
DTSTAMP;VALUE=DATE-TIME:20260421T145028Z
UID:040000008200E00074C5B7101A82E0080000000070C887EAD607D40100000000000000
 0010000000FFC858A8BEABF94882D63A4FB5CB3D74
CREATED;VALUE=DATE-TIME:20180629T060549Z
DESCRIPTION:\n\n
LAST-MODIFIED;VALUE=DATE-TIME:20200706T064353Z
URL:https://www.sek-pratteln.ch/events/oeffentlich/jahresschlussfeier-1-se
 k-10-12-gemeinsames-singen-2-sek-3-sek-13-15
END:VEVENT
BEGIN:VTIMEZONE
TZID:Europe/Zurich
X-LIC-LOCATION:Europe/Zurich
BEGIN:STANDARD
DTSTART;VALUE=DATE-TIME:20181028T020000
TZNAME:CET
TZOFFSETFROM:+0200
TZOFFSETTO:+0100
END:STANDARD
END:VTIMEZONE
END:VCALENDAR
