BEGIN:VCALENDAR
VERSION:2.0
PRODID:-//Plone.org//NONSGML plone.app.event//EN
X-WR-TIMEZONE:Europe/Zurich
BEGIN:VEVENT
SUMMARY:abgesagt: Jahresschlussfeier 1. Kl.
DTSTART;TZID=Europe/Zurich;VALUE=DATE-TIME:20201218T100000
DTEND;TZID=Europe/Zurich;VALUE=DATE-TIME:20201218T140000
DTSTAMP;VALUE=DATE-TIME:20260421T110746Z
UID:040000008200E00074C5B7101A82E00800000000001D56CA184AD60100000000000000
 00100000001160E2B0DC76CF439477F338A08B959D
CREATED;VALUE=DATE-TIME:20200706T062847Z
DESCRIPTION:None
LAST-MODIFIED;VALUE=DATE-TIME:20201208T081937Z
URL:https://www.sek-pratteln.ch/events/oeffentlich/jahresschlussfeier-1-kl
END:VEVENT
BEGIN:VTIMEZONE
TZID:Europe/Zurich
X-LIC-LOCATION:Europe/Zurich
BEGIN:STANDARD
DTSTART;VALUE=DATE-TIME:20201025T020000
TZNAME:CET
TZOFFSETFROM:+0200
TZOFFSETTO:+0100
END:STANDARD
END:VTIMEZONE
END:VCALENDAR
