BEGIN:VCALENDAR
VERSION:2.0
PRODID:-//Plone.org//NONSGML plone.app.event//EN
X-WR-TIMEZONE:Europe/Zurich
BEGIN:VEVENT
SUMMARY:Jahresabschlusskonzert Chor\, Band\, WPF Musik 2. Kl. 19:00h
DTSTART;TZID=Europe/Zurich;VALUE=DATE-TIME:20241219T190000
DTEND;TZID=Europe/Zurich;VALUE=DATE-TIME:20241219T210000
DTSTAMP;VALUE=DATE-TIME:20260421T111217Z
UID:040000008200E00074C5B7101A82E008000000007068A4713BC2DA0100000000000000
 0010000000E95EA5D68CA85C4CA89075BF61FB80AD
CREATED;VALUE=DATE-TIME:20240627T145107Z
DESCRIPTION:Apéro 18:00\nKonzert 19:00
LAST-MODIFIED;VALUE=DATE-TIME:20241216T141615Z
LOCATION:Alte Dorfturnhalle Pratteln
URL:https://www.sek-pratteln.ch/events/oeffentlich/jahresabschlusskonzert-
 wpf-musik-2-kl-19-00h
END:VEVENT
BEGIN:VTIMEZONE
TZID:Europe/Zurich
X-LIC-LOCATION:Europe/Zurich
BEGIN:STANDARD
DTSTART;VALUE=DATE-TIME:20241027T020000
TZNAME:CET
TZOFFSETFROM:+0200
TZOFFSETTO:+0100
END:STANDARD
END:VTIMEZONE
END:VCALENDAR
