BEGIN:VCALENDAR
VERSION:2.0
PRODID:-//Plone.org//NONSGML plone.app.event//EN
X-WR-TIMEZONE:Europe/Zurich
BEGIN:VEVENT
SUMMARY:Interkultureller Projekttag
DTSTART;VALUE=DATE:20240521
DTEND;VALUE=DATE:20240522
DTSTAMP;VALUE=DATE-TIME:20260421T110550Z
UID:040000008200E00074C5B7101A82E00800000000D035DFA616A5D90100000000000000
 00100000000109A4B28E7BE14FB88A63433F244509
CREATED;VALUE=DATE-TIME:20230626T125537Z
LAST-MODIFIED;VALUE=DATE-TIME:20230626T125939Z
URL:https://www.sek-pratteln.ch/events/oeffentlich/interkultureller-projek
 ttag
END:VEVENT
END:VCALENDAR
