BEGIN:VCALENDAR
VERSION:2.0
PRODID:-//Plone.org//NONSGML plone.app.event//EN
X-WR-TIMEZONE:Europe/Zurich
BEGIN:VEVENT
SUMMARY:Interkultureller Projekttag 2Aa\, 2Ab\, 2Ac
DTSTART;VALUE=DATE:20250429
DTEND;VALUE=DATE:20250430
DTSTAMP;VALUE=DATE-TIME:20260421T110815Z
UID:040000008200E00074C5B7101A82E0080000000090FCB64942C2DA0100000000000000
 0010000000F18DFEAC785EA24EB468644720238578
CREATED;VALUE=DATE-TIME:20240627T145056Z
DESCRIPTION:None
LAST-MODIFIED;VALUE=DATE-TIME:20250129T092344Z
URL:https://www.sek-pratteln.ch/events/oeffentlich/interkultureller-projek
 ttag-2ac-2ec-2kab
END:VEVENT
END:VCALENDAR
