BEGIN:VCALENDAR
VERSION:2.0
PRODID:-//Plone.org//NONSGML plone.app.event//EN
X-WR-TIMEZONE:Europe/Zurich
BEGIN:VEVENT
SUMMARY:Interkultureller Projekttag 2Pa\, 2Pb\, Kab
DTSTART;VALUE=DATE:20250506
DTEND;VALUE=DATE:20250507
DTSTAMP;VALUE=DATE-TIME:20260421T110818Z
UID:040000008200E00074C5B7101A82E0080000000030563D7E42C2DA0100000000000000
 00100000001FA8226CBDC1714AA4A2598E75ACAA49
CREATED;VALUE=DATE-TIME:20240627T145055Z
DESCRIPTION:None
LAST-MODIFIED;VALUE=DATE-TIME:20250129T092543Z
URL:https://www.sek-pratteln.ch/events/oeffentlich/interkultureller-projek
 ttag-2ab-2eb-2pb
END:VEVENT
END:VCALENDAR
