BEGIN:VCALENDAR
VERSION:2.0
PRODID:-//Plone.org//NONSGML plone.app.event//EN
X-WR-TIMEZONE:Europe/Zurich
BEGIN:VEVENT
SUMMARY:abgesagt - Interkulturelle Projekttage
DTSTART;VALUE=DATE:20210427
DTEND;VALUE=DATE:20210429
DTSTAMP;VALUE=DATE-TIME:20260421T110608Z
UID:040000008200E00074C5B7101A82E0080000000040622BC61C4AD60100000000000000
 00100000002B491AF128239C4E927147607F128898
CREATED;VALUE=DATE-TIME:20200706T062830Z
DESCRIPTION:None
LAST-MODIFIED;VALUE=DATE-TIME:20210309T145218Z
URL:https://www.sek-pratteln.ch/events/oeffentlich/interkulturelle-projekt
 tage
END:VEVENT
END:VCALENDAR
