BEGIN:VCALENDAR
VERSION:2.0
PRODID:-//Plone.org//NONSGML plone.app.event//EN
X-WR-TIMEZONE:Europe/Zurich
BEGIN:VEVENT
SUMMARY:Interkulturelle Projekttage
DTSTART;VALUE=DATE:20230502
DTEND;VALUE=DATE:20230504
DTSTAMP;VALUE=DATE-TIME:20260421T110708Z
UID:040000008200E00074C5B7101A82E00800000000D0756BF53783D80100000000000000
 001000000065097644AF6DCB44856A4830E2124B6E
CREATED;VALUE=DATE-TIME:20220627T163424Z
DESCRIPTION: \n
LAST-MODIFIED;VALUE=DATE-TIME:20220627T165928Z
URL:https://www.sek-pratteln.ch/events/oeffentlich/interkulturelle-projekt
 tage-3
END:VEVENT
END:VCALENDAR
