BEGIN:VCALENDAR
VERSION:2.0
PRODID:-//Plone.org//NONSGML plone.app.event//EN
X-WR-TIMEZONE:Europe/Zurich
BEGIN:VEVENT
SUMMARY:Interkulturelle Projekttage
DTSTART;VALUE=DATE:20220517
DTEND;VALUE=DATE:20220518
DTSTAMP;VALUE=DATE-TIME:20260421T110710Z
UID:040000008200E00074C5B7101A82E00800000000D0BDBFC7A363D70100000000000000
 001000000074AA13D4ECE4A04692FE7BF3CF2E5089
CREATED;VALUE=DATE-TIME:20210701T072626Z
LAST-MODIFIED;VALUE=DATE-TIME:20210701T072754Z
URL:https://www.sek-pratteln.ch/events/oeffentlich/interkulturelle-projekt
 tage-2
END:VEVENT
END:VCALENDAR
