BEGIN:VCALENDAR
VERSION:2.0
PRODID:-//Plone.org//NONSGML plone.app.event//EN
X-WR-TIMEZONE:Europe/Zurich
BEGIN:VEVENT
SUMMARY:Infomarktplatz Schulen (ohne Brückenangebote) 3. Klassen
DTSTART;TZID=Europe/Zurich;VALUE=DATE-TIME:20221019T193000
DTEND;TZID=Europe/Zurich;VALUE=DATE-TIME:20221019T213000
DTSTAMP;VALUE=DATE-TIME:20260421T105903Z
UID:040000008200E00074C5B7101A82E00800000000C0B4EE482D83D80100000000000000
 00100000000624F7EF5C49404ABBCB22BD65F2DB76
CREATED;VALUE=DATE-TIME:20220627T163407Z
LAST-MODIFIED;VALUE=DATE-TIME:20220815T160815Z
LOCATION:Aula B / div. Zimmer
URL:https://www.sek-pratteln.ch/events/oeffentlich/infomarktplatz-schulen-
 ohne-brueckenangebote-3-klassen
END:VEVENT
BEGIN:VTIMEZONE
TZID:Europe/Zurich
X-LIC-LOCATION:Europe/Zurich
BEGIN:DAYLIGHT
DTSTART;VALUE=DATE-TIME:20220327T030000
TZNAME:CEST
TZOFFSETFROM:+0100
TZOFFSETTO:+0200
END:DAYLIGHT
END:VTIMEZONE
END:VCALENDAR
