BEGIN:VCALENDAR
VERSION:2.0
PRODID:-//Plone.org//NONSGML plone.app.event//EN
X-WR-TIMEZONE:Europe/Zurich
BEGIN:VEVENT
SUMMARY:Infomarktplatz Schulen (ohne Brückenangebote) 3. Klassen\; Aula-B
  und weitere Zimmer
DTSTART;TZID=Europe/Zurich;VALUE=DATE-TIME:20211020T193000
DTEND;TZID=Europe/Zurich;VALUE=DATE-TIME:20211020T213000
DTSTAMP;VALUE=DATE-TIME:20260421T111316Z
UID:040000008200E00074C5B7101A82E00800000000206D32AE9B63D70100000000000000
 0010000000E90D42C05D05AA46BA4238EA0FC5AF96
CREATED;VALUE=DATE-TIME:20210701T072611Z
DESCRIPTION:None
LAST-MODIFIED;VALUE=DATE-TIME:20210923T124307Z
URL:https://www.sek-pratteln.ch/events/oeffentlich/infomarktplatz-schulen-
 ohne-brueckenangebote-3-klassen-aula-b-und-weitere-zimmer
END:VEVENT
BEGIN:VTIMEZONE
TZID:Europe/Zurich
X-LIC-LOCATION:Europe/Zurich
BEGIN:DAYLIGHT
DTSTART;VALUE=DATE-TIME:20210328T030000
TZNAME:CEST
TZOFFSETFROM:+0100
TZOFFSETTO:+0200
END:DAYLIGHT
END:VTIMEZONE
END:VCALENDAR
