BEGIN:VCALENDAR
VERSION:2.0
PRODID:-//Plone.org//NONSGML plone.app.event//EN
X-WR-TIMEZONE:Europe/Zurich
BEGIN:VEVENT
SUMMARY:Infomarktplatz Berufswelt (2. Sek)
DTSTART;VALUE=DATE:20181107
DTEND;VALUE=DATE:20181108
DTSTAMP;VALUE=DATE-TIME:20260421T111007Z
UID:040000008200E00074C5B7101A82E008000000005049388BD407D40100000000000000
 00100000007AA255C53CDD934B84DD02F9EFF97F18
CREATED;VALUE=DATE-TIME:20180629T060558Z
LAST-MODIFIED;VALUE=DATE-TIME:20200706T064354Z
URL:https://www.sek-pratteln.ch/events/oeffentlich/infomarktplatz-schulen-
 3-sek
END:VEVENT
END:VCALENDAR
