BEGIN:VCALENDAR
VERSION:2.0
PRODID:-//Plone.org//NONSGML plone.app.event//EN
X-WR-TIMEZONE:Europe/Zurich
BEGIN:VEVENT
SUMMARY:Infomarktplatz Schule 3A\,3E\,3P 19:30h
DTSTART;TZID=Europe/Zurich;VALUE=DATE-TIME:20241016T193000
DTEND;TZID=Europe/Zurich;VALUE=DATE-TIME:20241016T213000
DTSTAMP;VALUE=DATE-TIME:20260419T152020Z
UID:040000008200E00074C5B7101A82E00800000000904A7CE038C2DA0100000000000000
 001000000018B7464ACD0BAF4BBC6C27A34256661B
CREATED;VALUE=DATE-TIME:20240627T145116Z
DESCRIPTION:None
LAST-MODIFIED;VALUE=DATE-TIME:20240815T065001Z
LOCATION:grosse Aula-B
URL:https://www.sek-pratteln.ch/events/oeffentlich/infomarktplatz-schule-3
 a-3e-3p-19-00h
END:VEVENT
BEGIN:VTIMEZONE
TZID:Europe/Zurich
X-LIC-LOCATION:Europe/Zurich
BEGIN:DAYLIGHT
DTSTART;VALUE=DATE-TIME:20240331T030000
TZNAME:CEST
TZOFFSETFROM:+0100
TZOFFSETTO:+0200
END:DAYLIGHT
END:VTIMEZONE
END:VCALENDAR
