BEGIN:VCALENDAR
VERSION:2.0
PRODID:-//Plone.org//NONSGML plone.app.event//EN
X-WR-TIMEZONE:Europe/Zurich
BEGIN:VEVENT
SUMMARY:Infomarktplatz Berufswelt 2AEP (19:30h)
DTSTART;TZID=Europe/Zurich;VALUE=DATE-TIME:20251029T193000
DTEND;TZID=Europe/Zurich;VALUE=DATE-TIME:20251029T220000
DTSTAMP;VALUE=DATE-TIME:20260421T111112Z
UID:040000008200E00074C5B7101A82E00800000000A0C64BE922D2DB0100000000000000
 0010000000A0B85236BE5BEA4A865FDBFF35F08F86
CREATED;VALUE=DATE-TIME:20250611T084856Z
LAST-MODIFIED;VALUE=DATE-TIME:20250611T085745Z
LOCATION:grosse Aula B
URL:https://www.sek-pratteln.ch/events/oeffentlich/infomarktplatz-berufswe
 lt-2aep-19-30h
END:VEVENT
BEGIN:VTIMEZONE
TZID:Europe/Zurich
X-LIC-LOCATION:Europe/Zurich
BEGIN:STANDARD
DTSTART;VALUE=DATE-TIME:20251026T020000
TZNAME:CET
TZOFFSETFROM:+0200
TZOFFSETTO:+0100
END:STANDARD
END:VTIMEZONE
END:VCALENDAR
