BEGIN:VCALENDAR
VERSION:2.0
PRODID:-//Plone.org//NONSGML plone.app.event//EN
X-WR-TIMEZONE:Europe/Zurich
BEGIN:VEVENT
SUMMARY:Infomarktplatz Berufswelt 2A\,2E\,2P 19:30h
DTSTART;TZID=Europe/Zurich;VALUE=DATE-TIME:20241030T193000
DTEND;TZID=Europe/Zurich;VALUE=DATE-TIME:20241030T213000
DTSTAMP;VALUE=DATE-TIME:20260419T152032Z
UID:040000008200E00074C5B7101A82E0080000000040465C2E37C2DA0100000000000000
 0010000000CE87CF29AA45A1439F2D7594D7021631
CREATED;VALUE=DATE-TIME:20240627T145120Z
DESCRIPTION:None
LAST-MODIFIED;VALUE=DATE-TIME:20240815T064859Z
LOCATION:grosse Aula-B
URL:https://www.sek-pratteln.ch/events/oeffentlich/infomarktplatz-berufswe
 lt-2a-2e-2p-19-00h
END:VEVENT
BEGIN:VTIMEZONE
TZID:Europe/Zurich
X-LIC-LOCATION:Europe/Zurich
BEGIN:STANDARD
DTSTART;VALUE=DATE-TIME:20241027T020000
TZNAME:CET
TZOFFSETFROM:+0200
TZOFFSETTO:+0100
END:STANDARD
END:VTIMEZONE
END:VCALENDAR
