BEGIN:VCALENDAR
VERSION:2.0
PRODID:-//Plone.org//NONSGML plone.app.event//EN
X-WR-TIMEZONE:Europe/Zurich
BEGIN:VEVENT
SUMMARY:Infomarktplatz Schulen (3. Sek)
DTSTART;VALUE=DATE:20181017
DTEND;VALUE=DATE:20181018
DTSTAMP;VALUE=DATE-TIME:20260421T110937Z
UID:040000008200E00074C5B7101A82E008000000008049CA2DD407D40100000000000000
 0010000000661441430103EA4286EA45B08C026F55
CREATED;VALUE=DATE-TIME:20180629T060600Z
LAST-MODIFIED;VALUE=DATE-TIME:20200706T064354Z
URL:https://www.sek-pratteln.ch/events/oeffentlich/infomarktplatz-berufswe
 lt-2-sek
END:VEVENT
END:VCALENDAR
