BEGIN:VCALENDAR
VERSION:2.0
PRODID:-//Plone.org//NONSGML plone.app.event//EN
X-WR-TIMEZONE:Europe/Zurich
BEGIN:VEVENT
SUMMARY:Infomarktplatz Berufswelt 2. Klassen
DTSTART;TZID=Europe/Zurich;VALUE=DATE-TIME:20221102T193000
DTEND;TZID=Europe/Zurich;VALUE=DATE-TIME:20221102T213000
DTSTAMP;VALUE=DATE-TIME:20260421T111005Z
UID:040000008200E00074C5B7101A82E008000000008022A6AE2D83D80100000000000000
 0010000000C551D50CFD54AC41A99786D40B30D215
CREATED;VALUE=DATE-TIME:20220627T163408Z
LAST-MODIFIED;VALUE=DATE-TIME:20220815T160908Z
LOCATION:Aula B / div Zimmer
URL:https://www.sek-pratteln.ch/events/oeffentlich/infomarktplatz-berufswe
 lt-2-klassen
END:VEVENT
BEGIN:VTIMEZONE
TZID:Europe/Zurich
X-LIC-LOCATION:Europe/Zurich
BEGIN:STANDARD
DTSTART;VALUE=DATE-TIME:20221030T020000
TZNAME:CET
TZOFFSETFROM:+0200
TZOFFSETTO:+0100
END:STANDARD
END:VTIMEZONE
END:VCALENDAR
