BEGIN:VCALENDAR
VERSION:2.0
PRODID:-//Plone.org//NONSGML plone.app.event//EN
X-WR-TIMEZONE:Europe/Zurich
BEGIN:VEVENT
SUMMARY:Infomarkt Berufswelt (2AEP)
DTSTART;TZID=Europe/Zurich;VALUE=DATE-TIME:20231101T193000
DTEND;TZID=Europe/Zurich;VALUE=DATE-TIME:20231101T220000
DTSTAMP;VALUE=DATE-TIME:20260419T151753Z
UID:040000008200E00074C5B7101A82E00800000000802D421841A4D90100000000000000
 0010000000F57480C5AF9B5344978E0607D5EC4007
CREATED;VALUE=DATE-TIME:20230626T125549Z
DESCRIPTION:None
LAST-MODIFIED;VALUE=DATE-TIME:20231018T045547Z
LOCATION:grosse Aula B
URL:https://www.sek-pratteln.ch/events/oeffentlich/infomarkt-berufswelt-2a
 ep
END:VEVENT
BEGIN:VTIMEZONE
TZID:Europe/Zurich
X-LIC-LOCATION:Europe/Zurich
BEGIN:STANDARD
DTSTART;VALUE=DATE-TIME:20231029T020000
TZNAME:CET
TZOFFSETFROM:+0200
TZOFFSETTO:+0100
END:STANDARD
END:VTIMEZONE
END:VCALENDAR
