BEGIN:VCALENDAR
VERSION:2.0
PRODID:-//Plone.org//NONSGML plone.app.event//EN
X-WR-TIMEZONE:Europe/Zurich
BEGIN:VEVENT
SUMMARY:Abgesagt: Infomarkt Berufswelt 2. Kl.
DTSTART;TZID=Europe/Zurich;VALUE=DATE-TIME:20201104T193000
DTEND;TZID=Europe/Zurich;VALUE=DATE-TIME:20201104T220000
DTSTAMP;VALUE=DATE-TIME:20260421T110748Z
UID:040000008200E00074C5B7101A82E00800000000009893CA144AD60100000000000000
 001000000075DEAA307AF2794C9016867F82DEC968
CREATED;VALUE=DATE-TIME:20200706T062850Z
DESCRIPTION:None
LAST-MODIFIED;VALUE=DATE-TIME:20201022T075055Z
URL:https://www.sek-pratteln.ch/events/oeffentlich/infomarkt-berufswelt-2-
 kl
END:VEVENT
BEGIN:VTIMEZONE
TZID:Europe/Zurich
X-LIC-LOCATION:Europe/Zurich
BEGIN:STANDARD
DTSTART;VALUE=DATE-TIME:20201025T020000
TZNAME:CET
TZOFFSETFROM:+0200
TZOFFSETTO:+0100
END:STANDARD
END:VTIMEZONE
END:VCALENDAR
