BEGIN:VCALENDAR
VERSION:2.0
PRODID:-//Plone.org//NONSGML plone.app.event//EN
X-WR-TIMEZONE:Europe/Zurich
BEGIN:VEVENT
SUMMARY:Infoanlass BIZ 3Ea
DTSTART;TZID=Europe/Zurich;VALUE=DATE-TIME:20170208T200000
DTEND;TZID=Europe/Zurich;VALUE=DATE-TIME:20170208T213000
DTSTAMP;VALUE=DATE-TIME:20260420T034610Z
UID:040000008200E00074C5B7101A82E0080000000030353EA745D8D10100000000000000
 00100000002A5E8ADEAE83264FBF72ECC9656BAF68
CREATED;VALUE=DATE-TIME:20160712T121606Z
LAST-MODIFIED;VALUE=DATE-TIME:20200706T064347Z
URL:https://www.sek-pratteln.ch/events/oeffentlich/infoanlass-biz-3ea
END:VEVENT
BEGIN:VTIMEZONE
TZID:Europe/Zurich
X-LIC-LOCATION:Europe/Zurich
BEGIN:STANDARD
DTSTART;VALUE=DATE-TIME:20161030T020000
TZNAME:CET
TZOFFSETFROM:+0200
TZOFFSETTO:+0100
END:STANDARD
END:VTIMEZONE
END:VCALENDAR
