BEGIN:VCALENDAR
VERSION:2.0
PRODID:-//Plone.org//NONSGML plone.app.event//EN
X-WR-TIMEZONE:Europe/Zurich
BEGIN:VEVENT
SUMMARY:Infoanlass BIZ 3Ab
DTSTART;TZID=Europe/Zurich;VALUE=DATE-TIME:20170207T200000
DTEND;TZID=Europe/Zurich;VALUE=DATE-TIME:20170207T213000
DTSTAMP;VALUE=DATE-TIME:20260421T110610Z
UID:040000008200E00074C5B7101A82E0080000000080B5BF8245D8D10100000000000000
 00100000000B6BD57981E6C34DBC787AAD6ADA125A
CREATED;VALUE=DATE-TIME:20160712T121605Z
LAST-MODIFIED;VALUE=DATE-TIME:20200706T064347Z
URL:https://www.sek-pratteln.ch/events/oeffentlich/infoanlass-biz-3ab
END:VEVENT
BEGIN:VTIMEZONE
TZID:Europe/Zurich
X-LIC-LOCATION:Europe/Zurich
BEGIN:STANDARD
DTSTART;VALUE=DATE-TIME:20161030T020000
TZNAME:CET
TZOFFSETFROM:+0200
TZOFFSETTO:+0100
END:STANDARD
END:VTIMEZONE
END:VCALENDAR
