BEGIN:VCALENDAR
VERSION:2.0
PRODID:-//Plone.org//NONSGML plone.app.event//EN
X-WR-TIMEZONE:Europe/Zurich
BEGIN:VEVENT
SUMMARY:Infoanlass 6. Klassen an Sek 10:30-12:00h
DTSTART;TZID=Europe/Zurich;VALUE=DATE-TIME:20240909T103000
DTEND;TZID=Europe/Zurich;VALUE=DATE-TIME:20240909T120000
DTSTAMP;VALUE=DATE-TIME:20260421T105535Z
UID:040000008200E00074C5B7101A82E00800000000204535B034C2DA0100000000000000
 0010000000DE17BBA0B44E8B42A6B64978546D5B4B
CREATED;VALUE=DATE-TIME:20240627T145121Z
LAST-MODIFIED;VALUE=DATE-TIME:20240627T145437Z
LOCATION:grosse Aula-B
URL:https://www.sek-pratteln.ch/events/oeffentlich/infoanlass-6-klassen-an
 -sek-10-30-12-00h
END:VEVENT
BEGIN:VTIMEZONE
TZID:Europe/Zurich
X-LIC-LOCATION:Europe/Zurich
BEGIN:DAYLIGHT
DTSTART;VALUE=DATE-TIME:20240331T030000
TZNAME:CEST
TZOFFSETFROM:+0100
TZOFFSETTO:+0200
END:DAYLIGHT
END:VTIMEZONE
END:VCALENDAR
