BEGIN:VCALENDAR
VERSION:2.0
PRODID:-//Plone.org//NONSGML plone.app.event//EN
X-WR-TIMEZONE:Europe/Zurich
BEGIN:VEVENT
SUMMARY:Infoanlass 6. Kl. (SuS 10:30h\, Aula-B)
DTSTART;TZID=Europe/Zurich;VALUE=DATE-TIME:20210830T103000
DTEND;TZID=Europe/Zurich;VALUE=DATE-TIME:20210830T120000
DTSTAMP;VALUE=DATE-TIME:20260421T150607Z
UID:040000008200E00074C5B7101A82E00800000000500E5F729863D70100000000000000
 001000000002BB6AB3ACA8C04BB5D992CFB080D164
CREATED;VALUE=DATE-TIME:20210701T072607Z
LAST-MODIFIED;VALUE=DATE-TIME:20210701T072841Z
URL:https://www.sek-pratteln.ch/events/oeffentlich/infoanlass-6-kl-sus-10-
 30h-aula-b
END:VEVENT
BEGIN:VTIMEZONE
TZID:Europe/Zurich
X-LIC-LOCATION:Europe/Zurich
BEGIN:DAYLIGHT
DTSTART;VALUE=DATE-TIME:20210328T030000
TZNAME:CEST
TZOFFSETFROM:+0100
TZOFFSETTO:+0200
END:DAYLIGHT
END:VTIMEZONE
END:VCALENDAR
