BEGIN:VCALENDAR
VERSION:2.0
PRODID:-//Plone.org//NONSGML plone.app.event//EN
X-WR-TIMEZONE:Europe/Zurich
BEGIN:VEVENT
SUMMARY:Infoanlass 6. Kl. (SuS 10:30)
DTSTART;TZID=Europe/Zurich;VALUE=DATE-TIME:20200831T103000
DTEND;TZID=Europe/Zurich;VALUE=DATE-TIME:20200831T120000
DTSTAMP;VALUE=DATE-TIME:20260421T110924Z
UID:040000008200E00074C5B7101A82E00800000000B08E03AB044AD60100000000000000
 0010000000EE8A5DC355661A49BE7129E30FB091D0
CREATED;VALUE=DATE-TIME:20200706T062858Z
LAST-MODIFIED;VALUE=DATE-TIME:20200706T064406Z
LOCATION:grosse Aula-B
URL:https://www.sek-pratteln.ch/events/oeffentlich/infoanlass-6-kl-sus-10-
 30
END:VEVENT
BEGIN:VTIMEZONE
TZID:Europe/Zurich
X-LIC-LOCATION:Europe/Zurich
BEGIN:DAYLIGHT
DTSTART;VALUE=DATE-TIME:20200329T030000
TZNAME:CEST
TZOFFSETFROM:+0100
TZOFFSETTO:+0200
END:DAYLIGHT
END:VTIMEZONE
END:VCALENDAR
