BEGIN:VCALENDAR
VERSION:2.0
PRODID:-//Plone.org//NONSGML plone.app.event//EN
X-WR-TIMEZONE:Europe/Zurich
BEGIN:VEVENT
SUMMARY:Infoanlass 6. Kl. (SuS 10:30)
DTSTART;TZID=Europe/Zurich;VALUE=DATE-TIME:20230918T103000
DTEND;TZID=Europe/Zurich;VALUE=DATE-TIME:20230918T120000
DTSTAMP;VALUE=DATE-TIME:20260421T110818Z
UID:040000008200E00074C5B7101A82E00800000000B0B8A4973FA4D90100000000000000
 00100000005DE70D3BC1838C48B31DB799C00BAE62
CREATED;VALUE=DATE-TIME:20230626T125551Z
LAST-MODIFIED;VALUE=DATE-TIME:20230626T125903Z
LOCATION:grosse Aula B
URL:https://www.sek-pratteln.ch/events/oeffentlich/infoanlass-6-kl-sus-10-
 30-1
END:VEVENT
BEGIN:VTIMEZONE
TZID:Europe/Zurich
X-LIC-LOCATION:Europe/Zurich
BEGIN:DAYLIGHT
DTSTART;VALUE=DATE-TIME:20230326T030000
TZNAME:CEST
TZOFFSETFROM:+0100
TZOFFSETTO:+0200
END:DAYLIGHT
END:VTIMEZONE
END:VCALENDAR
