BEGIN:VCALENDAR
VERSION:2.0
PRODID:-//Plone.org//NONSGML plone.app.event//EN
X-WR-TIMEZONE:Europe/Zurich
BEGIN:VEVENT
SUMMARY:Infoanlass 6. Kl. an Sek 10:30-12:00h
DTSTART;TZID=Europe/Zurich;VALUE=DATE-TIME:20250908T103000
DTEND;TZID=Europe/Zurich;VALUE=DATE-TIME:20250908T120000
DTSTAMP;VALUE=DATE-TIME:20260421T111141Z
UID:040000008200E00074C5B7101A82E00800000000A0C718121DD2DB0100000000000000
 001000000089DFBF1E7E413C409115E20F2A8A21DB
CREATED;VALUE=DATE-TIME:20250611T084914Z
LAST-MODIFIED;VALUE=DATE-TIME:20250611T085637Z
LOCATION:grosse Aula B
URL:https://www.sek-pratteln.ch/events/oeffentlich/infoanlass-6-kl-an-sek-
 10-30-12-00h
END:VEVENT
BEGIN:VTIMEZONE
TZID:Europe/Zurich
X-LIC-LOCATION:Europe/Zurich
BEGIN:DAYLIGHT
DTSTART;VALUE=DATE-TIME:20250330T030000
TZNAME:CEST
TZOFFSETFROM:+0100
TZOFFSETTO:+0200
END:DAYLIGHT
END:VTIMEZONE
END:VCALENDAR
