BEGIN:VCALENDAR
VERSION:2.0
PRODID:-//Plone.org//NONSGML plone.app.event//EN
X-WR-TIMEZONE:Europe/Zurich
BEGIN:VEVENT
SUMMARY:Info Übertritt 2019 (6. Klassen 1030-1200) / (Eltern 1900-2100)
DTSTART;TZID=Europe/Zurich;VALUE=DATE-TIME:20180827T100000
DTEND;TZID=Europe/Zurich;VALUE=DATE-TIME:20180827T210000
DTSTAMP;VALUE=DATE-TIME:20260421T105711Z
UID:040000008200E00074C5B7101A82E00800000000A0A3B401CE07D40100000000000000
 0010000000944082E293B67A42B7BA4206D1F514C9
CREATED;VALUE=DATE-TIME:20180629T060610Z
DESCRIPTION:\n\n
LAST-MODIFIED;VALUE=DATE-TIME:20200706T064355Z
LOCATION:grosse Aula\, B-Trakt
URL:https://www.sek-pratteln.ch/events/oeffentlich/info-uebertritt-2019-6-
 klassen-1030-1200-eltern-1900-2100
END:VEVENT
BEGIN:VTIMEZONE
TZID:Europe/Zurich
X-LIC-LOCATION:Europe/Zurich
BEGIN:DAYLIGHT
DTSTART;VALUE=DATE-TIME:20180325T030000
TZNAME:CEST
TZOFFSETFROM:+0100
TZOFFSETTO:+0200
END:DAYLIGHT
END:VTIMEZONE
END:VCALENDAR
