BEGIN:VCALENDAR
VERSION:2.0
PRODID:-//Plone.org//NONSGML plone.app.event//EN
X-WR-TIMEZONE:Europe/Zurich
BEGIN:VEVENT
SUMMARY:Info-Marktplatz Schulen 4EP
DTSTART;TZID=Europe/Zurich;VALUE=DATE-TIME:20171018T193000
DTEND;TZID=Europe/Zurich;VALUE=DATE-TIME:20171018T210000
DTSTAMP;VALUE=DATE-TIME:20260421T104957Z
UID:7865ed782894498f902289f74e2ff418@5.35.252.84:8090
CREATED;VALUE=DATE-TIME:20170822T073536Z
LAST-MODIFIED;VALUE=DATE-TIME:20200706T064351Z
LOCATION:Grosse Aula\, B-Trakt
URL:https://www.sek-pratteln.ch/events/oeffentlich/info-marktplatz-schulen
 -4ep
END:VEVENT
BEGIN:VTIMEZONE
TZID:Europe/Zurich
X-LIC-LOCATION:Europe/Zurich
BEGIN:DAYLIGHT
DTSTART;VALUE=DATE-TIME:20170326T030000
TZNAME:CEST
TZOFFSETFROM:+0100
TZOFFSETTO:+0200
END:DAYLIGHT
END:VTIMEZONE
END:VCALENDAR
