BEGIN:VCALENDAR
VERSION:2.0
PRODID:-//Plone.org//NONSGML plone.app.event//EN
X-WR-TIMEZONE:Europe/Zurich
BEGIN:VEVENT
SUMMARY:Info-Anlass Offene Werkstatt 11:50-12:30h
DTSTART;TZID=Europe/Zurich;VALUE=DATE-TIME:20260204T115000
DTEND;TZID=Europe/Zurich;VALUE=DATE-TIME:20260204T123000
DTSTAMP;VALUE=DATE-TIME:20260421T111158Z
UID:040000008200E00074C5B7101A82E00800000000604A3DF829D2DB0100000000000000
 0010000000ED23030AA57B2340B3A65D59C966545D
CREATED;VALUE=DATE-TIME:20250611T084843Z
LAST-MODIFIED;VALUE=DATE-TIME:20250611T085835Z
LOCATION:kleine Aula Q
URL:https://www.sek-pratteln.ch/events/oeffentlich/info-anlass-offene-werk
 statt-11-50-12-30h
END:VEVENT
BEGIN:VTIMEZONE
TZID:Europe/Zurich
X-LIC-LOCATION:Europe/Zurich
BEGIN:STANDARD
DTSTART;VALUE=DATE-TIME:20251026T020000
TZNAME:CET
TZOFFSETFROM:+0200
TZOFFSETTO:+0100
END:STANDARD
END:VTIMEZONE
END:VCALENDAR
