BEGIN:VCALENDAR
VERSION:2.0
PRODID:-//Plone.org//NONSGML plone.app.event//EN
X-WR-TIMEZONE:Europe/Zurich
BEGIN:VEVENT
SUMMARY:ICT-Scouting 1Pb
DTSTART;TZID=Europe/Zurich;VALUE=DATE-TIME:20250919T081500
DTEND;TZID=Europe/Zurich;VALUE=DATE-TIME:20250919T114500
DTSTAMP;VALUE=DATE-TIME:20260419T231316Z
UID:040000008200E00074C5B7101A82E0080000000040C04E0F1FD2DB0100000000000000
 0010000000223774E98013CB4E96FA3DD6F2AE26C8
CREATED;VALUE=DATE-TIME:20250611T084908Z
LAST-MODIFIED;VALUE=DATE-TIME:20250611T085728Z
URL:https://www.sek-pratteln.ch/events/oeffentlich/ict-scouting-1pb-2
END:VEVENT
BEGIN:VTIMEZONE
TZID:Europe/Zurich
X-LIC-LOCATION:Europe/Zurich
BEGIN:DAYLIGHT
DTSTART;VALUE=DATE-TIME:20250330T030000
TZNAME:CEST
TZOFFSETFROM:+0100
TZOFFSETTO:+0200
END:DAYLIGHT
END:VTIMEZONE
END:VCALENDAR
