BEGIN:VCALENDAR
VERSION:2.0
PRODID:-//Plone.org//NONSGML plone.app.event//EN
X-WR-TIMEZONE:Europe/Zurich
BEGIN:VEVENT
SUMMARY:ICT-Scouting 1Ec
DTSTART;TZID=Europe/Zurich;VALUE=DATE-TIME:20240909T081500
DTEND;TZID=Europe/Zurich;VALUE=DATE-TIME:20240909T114500
DTSTAMP;VALUE=DATE-TIME:20260421T104510Z
UID:040000008200E00074C5B7101A82E00800000000906F9F4734C2DA0100000000000000
 00100000001DDB5811927E424C9539A2DFEED4A41C
CREATED;VALUE=DATE-TIME:20240627T145123Z
LAST-MODIFIED;VALUE=DATE-TIME:20240627T145409Z
LOCATION:C01
URL:https://www.sek-pratteln.ch/events/oeffentlich/ict-scouting-1ec
END:VEVENT
BEGIN:VTIMEZONE
TZID:Europe/Zurich
X-LIC-LOCATION:Europe/Zurich
BEGIN:DAYLIGHT
DTSTART;VALUE=DATE-TIME:20240331T030000
TZNAME:CEST
TZOFFSETFROM:+0100
TZOFFSETTO:+0200
END:DAYLIGHT
END:VTIMEZONE
END:VCALENDAR
