BEGIN:VCALENDAR
VERSION:2.0
PRODID:-//Plone.org//NONSGML plone.app.event//EN
X-WR-TIMEZONE:Europe/Zurich
BEGIN:VEVENT
SUMMARY:ICT-Scouting 1Ec
DTSTART;TZID=Europe/Zurich;VALUE=DATE-TIME:20250917T081500
DTEND;TZID=Europe/Zurich;VALUE=DATE-TIME:20250917T114500
DTSTAMP;VALUE=DATE-TIME:20260419T151444Z
UID:040000008200E00074C5B7101A82E00800000000F03B78E71ED2DB0100000000000000
 00100000008F69855A7A53544E88695C02B887B562
CREATED;VALUE=DATE-TIME:20250611T084910Z
LAST-MODIFIED;VALUE=DATE-TIME:20250611T085728Z
URL:https://www.sek-pratteln.ch/events/oeffentlich/ict-scouting-1ec-1
END:VEVENT
BEGIN:VTIMEZONE
TZID:Europe/Zurich
X-LIC-LOCATION:Europe/Zurich
BEGIN:DAYLIGHT
DTSTART;VALUE=DATE-TIME:20250330T030000
TZNAME:CEST
TZOFFSETFROM:+0100
TZOFFSETTO:+0200
END:DAYLIGHT
END:VTIMEZONE
END:VCALENDAR
