BEGIN:VCALENDAR
VERSION:2.0
PRODID:-//Plone.org//NONSGML plone.app.event//EN
X-WR-TIMEZONE:Europe/Zurich
BEGIN:VEVENT
SUMMARY:ICT-Scouting 1Eb
DTSTART;TZID=Europe/Zurich;VALUE=DATE-TIME:20250916T081500
DTEND;TZID=Europe/Zurich;VALUE=DATE-TIME:20250916T114500
DTSTAMP;VALUE=DATE-TIME:20260421T110336Z
UID:040000008200E00074C5B7101A82E0080000000090B30EDA1ED2DB0100000000000000
 001000000013531B576A16E54BBEB532E4B1412FBB
CREATED;VALUE=DATE-TIME:20250611T084910Z
LAST-MODIFIED;VALUE=DATE-TIME:20250611T085728Z
URL:https://www.sek-pratteln.ch/events/oeffentlich/ict-scouting-1eb-2
END:VEVENT
BEGIN:VTIMEZONE
TZID:Europe/Zurich
X-LIC-LOCATION:Europe/Zurich
BEGIN:DAYLIGHT
DTSTART;VALUE=DATE-TIME:20250330T030000
TZNAME:CEST
TZOFFSETFROM:+0100
TZOFFSETTO:+0200
END:DAYLIGHT
END:VTIMEZONE
END:VCALENDAR
