BEGIN:VCALENDAR
VERSION:2.0
PRODID:-//Plone.org//NONSGML plone.app.event//EN
X-WR-TIMEZONE:Europe/Zurich
BEGIN:VEVENT
SUMMARY:ICT Scouting 1Ea
DTSTART;VALUE=DATE:20161024
DTEND;VALUE=DATE:20161025
DTSTAMP;VALUE=DATE-TIME:20260419T182709Z
UID:040000008200E00074C5B7101A82E0080000000020A542C84CD8D10100000000000000
 00100000005E683A7B874D234EB8EE6619357DE4C6
CREATED;VALUE=DATE-TIME:20160712T121615Z
LAST-MODIFIED;VALUE=DATE-TIME:20200706T064348Z
LOCATION:C-01
URL:https://www.sek-pratteln.ch/events/oeffentlich/ict-scouting-1ea
END:VEVENT
END:VCALENDAR
