BEGIN:VCALENDAR
VERSION:2.0
PRODID:-//Plone.org//NONSGML plone.app.event//EN
X-WR-TIMEZONE:Europe/Zurich
BEGIN:VEVENT
SUMMARY:ICT-Scouting 1Ea
DTSTART;TZID=Europe/Zurich;VALUE=DATE-TIME:20250915T081500
DTEND;TZID=Europe/Zurich;VALUE=DATE-TIME:20250915T114500
DTSTAMP;VALUE=DATE-TIME:20260421T110257Z
UID:040000008200E00074C5B7101A82E00800000000B0D1A0C31ED2DB0100000000000000
 0010000000D0FDB0BBE7E73B40A0925D967FBE34C9
CREATED;VALUE=DATE-TIME:20250611T084910Z
LAST-MODIFIED;VALUE=DATE-TIME:20250611T085728Z
URL:https://www.sek-pratteln.ch/events/oeffentlich/ict-scouting-1ea-2
END:VEVENT
BEGIN:VTIMEZONE
TZID:Europe/Zurich
X-LIC-LOCATION:Europe/Zurich
BEGIN:DAYLIGHT
DTSTART;VALUE=DATE-TIME:20250330T030000
TZNAME:CEST
TZOFFSETFROM:+0100
TZOFFSETTO:+0200
END:DAYLIGHT
END:VTIMEZONE
END:VCALENDAR
