BEGIN:VCALENDAR
VERSION:2.0
PRODID:-//Plone.org//NONSGML plone.app.event//EN
X-WR-TIMEZONE:Europe/Zurich
BEGIN:VEVENT
SUMMARY:ICT Scouting (1. Sek)
DTSTART;TZID=Europe/Zurich;VALUE=DATE-TIME:20190918T080000
DTEND;TZID=Europe/Zurich;VALUE=DATE-TIME:20190918T120000
DTSTAMP;VALUE=DATE-TIME:20260421T104722Z
UID:3a783830d971410c924355a7fa04d316@5.35.252.84:8090
CREATED;VALUE=DATE-TIME:20190820T140446Z
LAST-MODIFIED;VALUE=DATE-TIME:20200706T064401Z
URL:https://www.sek-pratteln.ch/events/oeffentlich/ict-scouting-1-sek-1
END:VEVENT
BEGIN:VTIMEZONE
TZID:Europe/Zurich
X-LIC-LOCATION:Europe/Zurich
BEGIN:DAYLIGHT
DTSTART;VALUE=DATE-TIME:20190331T030000
TZNAME:CEST
TZOFFSETFROM:+0100
TZOFFSETTO:+0200
END:DAYLIGHT
END:VTIMEZONE
END:VCALENDAR
