BEGIN:VCALENDAR
VERSION:2.0
PRODID:-//Plone.org//NONSGML plone.app.event//EN
X-WR-TIMEZONE:Europe/Zurich
BEGIN:VEVENT
SUMMARY:ICT-Scouting 1. Sek (08:20-11:50)
DTSTART;VALUE=DATE:20220905
DTEND;VALUE=DATE:20220915
DTSTAMP;VALUE=DATE-TIME:20260421T111005Z
UID:040000008200E00074C5B7101A82E0080000000030D2E29BA581D80100000000000000
 0010000000297FC868219C5A41963D6EA377CC6BE7
CREATED;VALUE=DATE-TIME:20220627T163353Z
DESCRIPTION: \n
LAST-MODIFIED;VALUE=DATE-TIME:20220627T170018Z
URL:https://www.sek-pratteln.ch/events/oeffentlich/ict-scouting-1-sek-08-2
 0-11-50-7
END:VEVENT
END:VCALENDAR
